BEGIN:VCALENDAR
PRODID:-//github.com/rianjs/ical.net//NONSGML ical.net 4.0//EN
VERSION:2.0
BEGIN:VTIMEZONE
TZID:Eastern Standard Time
X-LIC-LOCATION:America/New_York
BEGIN:STANDARD
DTSTART:20241103T020000
RRULE:FREQ=YEARLY;BYDAY=1SU;BYMONTH=11
TZNAME:EST
TZOFFSETFROM:-0400
TZOFFSETTO:-0500
END:STANDARD
BEGIN:DAYLIGHT
DTSTART:20250309T020000
RRULE:FREQ=YEARLY;BYDAY=2SU;BYMONTH=3
TZNAME:EDT
TZOFFSETFROM:-0500
TZOFFSETTO:-0400
END:DAYLIGHT
END:VTIMEZONE
BEGIN:VEVENT
DESCRIPTION:A time for members of small stations to gather and discuss bur
 ning issues.
DTEND;TZID=Eastern Standard Time:20260811T140000
DTSTAMP:20260421T030536Z
DTSTART;TZID=Eastern Standard Time:20260811T130000
LOCATION:Zoom
ORGANIZER;CN=;SENT-BY="mailto:":
SEQUENCE:0
SUMMARY:PMJA: Small Stations Meet-Up - August
UID:b027040a-4f0e-4ea3-bd0d-f6910c1352cf
END:VEVENT
END:VCALENDAR
