BEGIN:VCALENDAR
PRODID:-//github.com/rianjs/ical.net//NONSGML ical.net 4.0//EN
VERSION:2.0
BEGIN:VTIMEZONE
TZID:Eastern Standard Time
X-LIC-LOCATION:America/New_York
BEGIN:STANDARD
DTSTART:20241103T020000
RRULE:FREQ=YEARLY;BYDAY=1SU;BYMONTH=11
TZNAME:EST
TZOFFSETFROM:-0400
TZOFFSETTO:-0500
END:STANDARD
BEGIN:DAYLIGHT
DTSTART:20250309T020000
RRULE:FREQ=YEARLY;BYDAY=2SU;BYMONTH=3
TZNAME:EDT
TZOFFSETFROM:-0500
TZOFFSETTO:-0400
END:DAYLIGHT
END:VTIMEZONE
BEGIN:VEVENT
DESCRIPTION:PMJA's Early Career Meet-Up gives rising stars a place to ask 
 questions
DTEND;TZID=Eastern Standard Time:20260812T150000
DTSTAMP:20260421T025238Z
DTSTART;TZID=Eastern Standard Time:20260812T140000
LOCATION:Zoom
ORGANIZER;CN=;SENT-BY="mailto:":
SEQUENCE:0
SUMMARY:PMJA: Early Career Meet-Up - August
UID:2cf913a9-57be-48a0-9bd6-0aabfd573d90
END:VEVENT
END:VCALENDAR
