BEGIN:VCALENDAR
PRODID:-//github.com/rianjs/ical.net//NONSGML ical.net 4.0//EN
VERSION:2.0
BEGIN:VTIMEZONE
TZID:Eastern Standard Time
X-LIC-LOCATION:America/New_York
BEGIN:STANDARD
DTSTART:20241103T020000
RRULE:FREQ=YEARLY;BYDAY=1SU;BYMONTH=11
TZNAME:EST
TZOFFSETFROM:-0400
TZOFFSETTO:-0500
END:STANDARD
BEGIN:DAYLIGHT
DTSTART:20250309T020000
RRULE:FREQ=YEARLY;BYDAY=2SU;BYMONTH=3
TZNAME:EDT
TZOFFSETFROM:-0500
TZOFFSETTO:-0400
END:DAYLIGHT
END:VTIMEZONE
BEGIN:VEVENT
DESCRIPTION:PMJA's Engaged Journalism Meet-Up is about engaging with local
  communities.
DTEND;TZID=Eastern Standard Time:20260922T160000
DTSTAMP:20260421T024907Z
DTSTART;TZID=Eastern Standard Time:20260922T150000
LOCATION:Zoom
ORGANIZER;CN=;SENT-BY="mailto:":
SEQUENCE:0
SUMMARY:PMJA: Engaged Journalism Meet-Up - September
UID:471aa35c-4986-45a0-9b4b-27bce6fc9380
END:VEVENT
END:VCALENDAR
