BEGIN:VCALENDAR
PRODID:-//github.com/rianjs/ical.net//NONSGML ical.net 4.0//EN
VERSION:2.0
BEGIN:VTIMEZONE
TZID:Eastern Standard Time
X-LIC-LOCATION:America/New_York
BEGIN:STANDARD
DTSTART:20241103T020000
RRULE:FREQ=YEARLY;BYDAY=1SU;BYMONTH=11
TZNAME:EST
TZOFFSETFROM:-0400
TZOFFSETTO:-0500
END:STANDARD
BEGIN:DAYLIGHT
DTSTART:20250309T020000
RRULE:FREQ=YEARLY;BYDAY=2SU;BYMONTH=3
TZNAME:EDT
TZOFFSETFROM:-0500
TZOFFSETTO:-0400
END:DAYLIGHT
END:VTIMEZONE
BEGIN:VEVENT
DESCRIPTION:A time to gather with other editors and discuss burning issues.
DTEND;TZID=Eastern Standard Time:20260930T140000
DTSTAMP:20260421T030435Z
DTSTART;TZID=Eastern Standard Time:20260930T130000
LOCATION:Zoom
ORGANIZER;CN=;SENT-BY="mailto:":
SEQUENCE:0
SUMMARY:PMJA: Storytelling Meet-Up - September
UID:e1eb500e-ddf7-486d-bd52-892ab1b3a5b6
END:VEVENT
END:VCALENDAR
